BEGIN:VCALENDAR
VERSION:2.0
PRODID:-//YachtWyse//Boat Shows//EN
CALSCALE:GREGORIAN
METHOD:PUBLISH
X-WR-CALNAME:Monaco Yacht Show
BEGIN:VEVENT
DTSTART:20260923T000000Z
DTEND:20260926T000000Z
SUMMARY:Monaco Yacht Show
LOCATION:Monaco
URL:https://yachtwyse.com/explore/boat-shows/monaco/le/monaco-yacht-show-20
 26
UID:boatshow-monaco-yacht-show-2026@yachtwyse.com
END:VEVENT
END:VCALENDAR