BEGIN:VCALENDAR
VERSION:2.0
PRODID:-//YachtWyse//Boat Shows//EN
CALSCALE:GREGORIAN
METHOD:PUBLISH
X-WR-CALNAME:New England Boat Show
BEGIN:VEVENT
DTSTART:20270210T000000Z
DTEND:20270214T000000Z
SUMMARY:New England Boat Show
LOCATION:USA
URL:https://yachtwyse.com/explore/boat-shows/new-england-boat-show-2027
UID:boatshow-new-england-boat-show-2027@yachtwyse.com
END:VEVENT
END:VCALENDAR