BEGIN:VCALENDAR
VERSION:2.0
PRODID:-//YachtWyse//Boat Shows//EN
CALSCALE:GREGORIAN
METHOD:PUBLISH
X-WR-CALNAME:Newport Charter Yacht Show
BEGIN:VEVENT
DTSTART:20260622T000000Z
DTEND:20260625T000000Z
SUMMARY:Newport Charter Yacht Show
LOCATION:Safe Harbor Newport Shipyard\, Newport\, Rhode Island\, USA\, Rhod
 e Island\, USA
URL:https://yachtwyse.com/explore/boat-shows/usa/rhode-island/newport-chart
 er-yacht-show-2026
UID:boatshow-newport-charter-yacht-show-2026@yachtwyse.com
END:VEVENT
END:VCALENDAR