BEGIN:VCALENDAR
VERSION:2.0
PRODID:-//YachtWyse//Boat Shows//EN
CALSCALE:GREGORIAN
METHOD:PUBLISH
X-WR-CALNAME:Newport International Boat Show
BEGIN:VEVENT
DTSTART:20260917T000000Z
DTEND:20260920T000000Z
SUMMARY:Newport International Boat Show
LOCATION:Newport Yachting Center Marina\, 4 Commercial Wharf\, Newport\, Rh
 ode Island 02840\, USA\, Rhode Island 02840\, USA
URL:https://yachtwyse.com/explore/boat-shows/usa/rhode-island-02840/newport
 -international-boat-show-2026
UID:boatshow-newport-international-boat-show-2026@yachtwyse.com
END:VEVENT
END:VCALENDAR