BEGIN:VCALENDAR
VERSION:2.0
PRODID:-//YachtWyse//Boat Shows//EN
CALSCALE:GREGORIAN
METHOD:PUBLISH
X-WR-CALNAME:Oklahoma Boat Expo
BEGIN:VEVENT
DTSTART:20260109T000000Z
DTEND:20260111T000000Z
SUMMARY:Oklahoma Boat Expo
LOCATION:Expo is coming to The Arvest Business Convention Center\, downtown
 \, USA
DESCRIPTION:Experience the best boat show Tulsa Oklahoma has to offer on 1/
 9 - 1/11. Get Your Tickets! The 2026 Boat & RV Show hosts a large selectio
 n of new boats and RVs.
URL:https://yachtwyse.com/explore/boat-shows/usa/downtown/oklahoma-boat-exp
 o-2026
UID:boatshow-oklahoma-boat-expo-2026@yachtwyse.com
END:VEVENT
END:VCALENDAR