BEGIN:VCALENDAR
VERSION:2.0
PRODID:-//YachtWyse//Boat Shows//EN
CALSCALE:GREGORIAN
METHOD:PUBLISH
X-WR-CALNAME:Olympic Yacht Show
BEGIN:VEVENT
DTSTART:20261009T000000Z
DTEND:20261012T000000Z
SUMMARY:Olympic Yacht Show
LOCATION:Olympic Marine S.A. 77th km Athens - Sounio\, Lavrio\, Attica\, Gr
 eece\, Attica\, Greece
URL:https://yachtwyse.com/explore/boat-shows/greece/attica/olympic-yacht-sh
 ow-2026
UID:boatshow-olympic-yacht-show-2026@yachtwyse.com
END:VEVENT
END:VCALENDAR