BEGIN:VCALENDAR
VERSION:2.0
PRODID:-//YachtWyse//Boat Shows//EN
CALSCALE:GREGORIAN
METHOD:PUBLISH
X-WR-CALNAME:Orlando Boat Show
BEGIN:VEVENT
DTSTART:20260327T000000Z
DTEND:20260329T000000Z
SUMMARY:Orlando Boat Show
LOCATION:Orange County Convention Center\, Orlando\, United States
DESCRIPTION:August 28-30th\, 2026
URL:https://yachtwyse.com/explore/boat-shows/united-states/orlando/orlando-
 boat-show-2026
UID:boatshow-orlando-boat-show-2026@yachtwyse.com
END:VEVENT
END:VCALENDAR