BEGIN:VCALENDAR
VERSION:2.0
PRODID:-//YachtWyse//Boat Shows//EN
CALSCALE:GREGORIAN
METHOD:PUBLISH
X-WR-CALNAME:Palm Beach International Boat Show
BEGIN:VEVENT
DTSTART:20260325T000000Z
DTEND:20260329T000000Z
SUMMARY:Palm Beach International Boat Show
LOCATION:West Palm Beach\, USA
DESCRIPTION:The Palm Beach International Boat Show will feature over $1.2 b
 illion worth of yachts and accessories\, including hundreds of boats rangi
 ng from 8-foot inflatables to superyachts nearly 300 feet in length.
URL:https://yachtwyse.com/explore/boat-shows/usa/west-palm-beach/palm-beach
 -international-boat-show-2026
UID:boatshow-palm-beach-international-boat-show-2026@yachtwyse.com
END:VEVENT
END:VCALENDAR