BEGIN:VCALENDAR
VERSION:2.0
PRODID:-//YachtWyse//Boat Shows//EN
CALSCALE:GREGORIAN
METHOD:PUBLISH
X-WR-CALNAME:Palma International Boat Show
BEGIN:VEVENT
DTSTART:20260429T000000Z
DTEND:20260502T000000Z
SUMMARY:Palma International Boat Show
LOCATION:Palma International Boat Show\, Palma\, Spain
URL:https://yachtwyse.com/explore/boat-shows/spain/palma/palma-internationa
 l-boat-show-2026
UID:boatshow-palma-international-boat-show-2026@yachtwyse.com
END:VEVENT
END:VCALENDAR