BEGIN:VCALENDAR
VERSION:2.0
PRODID:-//YachtWyse//Boat Shows//EN
CALSCALE:GREGORIAN
METHOD:PUBLISH
X-WR-CALNAME:Paris Nautic Show
BEGIN:VEVENT
DTSTART:20261125T000000Z
DTEND:20261129T000000Z
SUMMARY:Paris Nautic Show
LOCATION:Paris\, France
DESCRIPTION:Paris Nautic Show marked a triumphant return to the French capi
 tal in 2025 after a three-year hiatus\, welcoming nearly 40\,000 visitors 
 to Parc des Expositions du Bourget from November 26-30. The...
URL:https://yachtwyse.com/explore/boat-shows/france/paris/paris-nautic-show
 -2026
UID:boatshow-paris-nautic-show-2026@yachtwyse.com
END:VEVENT
END:VCALENDAR