BEGIN:VCALENDAR
VERSION:2.0
PRODID:-//YachtWyse//Boat Shows//EN
CALSCALE:GREGORIAN
METHOD:PUBLISH
X-WR-CALNAME:Qatar Boat Show
BEGIN:VEVENT
DTSTART:20261105T000000Z
DTEND:20261108T000000Z
SUMMARY:Qatar Boat Show
LOCATION:Old Doha Port\, Qatar
DESCRIPTION:Join us at Qatar Boat Show 2026 for 4 days of luxury yacht and 
 boat displays\, latest marine innovations\, and watersports at Doha's coas
 tline!
URL:https://yachtwyse.com/explore/boat-shows/qatar/coastline/qatar-boat-sho
 w-2026
UID:boatshow-qatar-boat-show-2026@yachtwyse.com
END:VEVENT
END:VCALENDAR