BEGIN:VCALENDAR
VERSION:2.0
PRODID:-//YachtWyse//Boat Shows//EN
CALSCALE:GREGORIAN
METHOD:PUBLISH
X-WR-CALNAME:Rio Boat Show
BEGIN:VEVENT
DTSTART:20260425T000000Z
DTEND:20260503T000000Z
SUMMARY:Rio Boat Show
LOCATION:Rejeitar Salve minhas preferências Aceitar tudo Pular para o cont
 eúdo Marina da Glória\, Rio\, Brazil
DESCRIPTION:Rio Boat Show 2026
URL:https://yachtwyse.com/explore/boat-shows/brazil/rio/rio-boat-show-2026
UID:boatshow-rio-boat-show-2026@yachtwyse.com
END:VEVENT
END:VCALENDAR