BEGIN:VCALENDAR
VERSION:2.0
PRODID:-//YachtWyse//Boat Shows//EN
CALSCALE:GREGORIAN
METHOD:PUBLISH
X-WR-CALNAME:Rockford\, IL Boat\, Vacation & Fishing Show
BEGIN:VEVENT
DTSTART:20260220T000000Z
DTEND:20260222T000000Z
SUMMARY:Rockford\, IL Boat\, Vacation & Fishing Show
LOCATION:Mercyhealth Indoor Sports Center\, Loves Park\, IL\, USA
DESCRIPTION:The 2026 Rockford Boat\, Vacation & Fishing Show features fishi
 ng boats\, pontoons\, kayaks\, and personal watercrafts with the latest fi
 shing tackle and equipment. Experienced Illinois and Wisconsin anglers and
  guides deliver informative seminars across three days\, while family-frie
 ndly activities include a free trout pond\, kids casting lessons\, and con
 tests. Admission is $8 for adults with free parking and children under 12.
URL:https://yachtwyse.com/explore/boat-shows/usa/loves-park/rockford-il-boa
 t-vacation-fishing-show-2026
UID:boatshow-rockford-il-boat-vacation-fishing-show-2026@yachtwyse.com
END:VEVENT
END:VCALENDAR