BEGIN:VCALENDAR
VERSION:2.0
PRODID:-//YachtWyse//Boat Shows//EN
CALSCALE:GREGORIAN
METHOD:PUBLISH
X-WR-CALNAME:Salon Nautico - Barcelona International Boat Show
BEGIN:VEVENT
DTSTART:20261014T000000Z
DTEND:20261018T000000Z
SUMMARY:Salon Nautico - Barcelona International Boat Show
LOCATION:Barcelona Port Vell\, Rambla de Mar\, s/n\, 08039 Barcelona\, Spai
 n\, 08039 Barcelona\, Spain
URL:https://yachtwyse.com/explore/boat-shows/spain/08039-barcelona/salon-na
 utico-barcelona-international-boat-show-2026
UID:boatshow-salon-nautico-barcelona-international-boat-show-2026@yachtwyse.com
END:VEVENT
END:VCALENDAR