BEGIN:VCALENDAR
VERSION:2.0
PRODID:-//YachtWyse//Boat Shows//EN
CALSCALE:GREGORIAN
METHOD:PUBLISH
X-WR-CALNAME:Salone Nautico Venezia
BEGIN:VEVENT
DTSTART:20260527T000000Z
DTEND:20260531T000000Z
SUMMARY:Salone Nautico Venezia
LOCATION:Salone Nautico Venezia\, Arsenale\, Platforms\, Italy
DESCRIPTION:Dal 27 maggio al 31 maggio 2026 a Venezia\, nello storico Arsen
 ale\, si svolgerà la settima edizione del Salone Nautico\, una delle prin
 cipali fiere internazionali del settore con centinaia espositori e centina
 ia imbarcazioni su un bacino acqueo di 55.000 mq: un’esperienza avvolgen
 te e immersiva realizzata per chi ama il mare e la nautica.
URL:https://yachtwyse.com/explore/boat-shows/italy/platforms/salone-nautico
 -venezia-2026
UID:boatshow-salone-nautico-venezia-2026@yachtwyse.com
END:VEVENT
END:VCALENDAR