BEGIN:VCALENDAR
VERSION:2.0
PRODID:-//YachtWyse//Boat Shows//EN
CALSCALE:GREGORIAN
METHOD:PUBLISH
X-WR-CALNAME:Sanctuary Cove International Boat Show
BEGIN:VEVENT
DTSTART:20260521T000000Z
DTEND:20260524T000000Z
SUMMARY:Sanctuary Cove International Boat Show
LOCATION:SANCTUARY COVE INTERNATIONAL BOAT SHOW\, GOLD\, Australia
DESCRIPTION:Join us from May 21-24\, 2026 on Queensland's Gold Coast for Au
 stralia's largest boating showcase - the Sanctuary Cove International Boat
  Show.
URL:https://yachtwyse.com/explore/boat-shows/australia/gold/sanctuary-cove-
 international-boat-show-2026
UID:boatshow-sanctuary-cove-international-boat-show-2026@yachtwyse.com
END:VEVENT
END:VCALENDAR