BEGIN:VCALENDAR
VERSION:2.0
PRODID:-//YachtWyse//Boat Shows//EN
CALSCALE:GREGORIAN
METHOD:PUBLISH
X-WR-CALNAME:Singapore Yachting Festival
BEGIN:VEVENT
DTSTART:20260423T000000Z
DTEND:20260426T000000Z
SUMMARY:Singapore Yachting Festival
LOCATION:Singapore\, Singapore
URL:https://yachtwyse.com/explore/boat-shows/singapore/singapore/singapore-
 yachting-festival-2026
UID:boatshow-singapore-yachting-festival-2026@yachtwyse.com
END:VEVENT
END:VCALENDAR