BEGIN:VCALENDAR
VERSION:2.0
PRODID:-//YachtWyse//Boat Shows//EN
CALSCALE:GREGORIAN
METHOD:PUBLISH
X-WR-CALNAME:South Coast & Green Tech Boat Show
BEGIN:VEVENT
DTSTART:20260508T000000Z
DTEND:20260510T000000Z
SUMMARY:South Coast & Green Tech Boat Show
LOCATION:Ocean Village Marina\, Southampton\, Hampshire\, SO14 3QF\, United
  Kingdom\, SO14 3QF\, United Kingdom
URL:https://yachtwyse.com/explore/boat-shows/united-kingdom/so14-3qf/south-
 coast-green-tech-boat-show-2026
UID:boatshow-south-coast-green-tech-boat-show-2026@yachtwyse.com
END:VEVENT
END:VCALENDAR