BEGIN:VCALENDAR
VERSION:2.0
PRODID:-//YachtWyse//Boat Shows//EN
CALSCALE:GREGORIAN
METHOD:PUBLISH
X-WR-CALNAME:Sydney Charter Show
BEGIN:VEVENT
DTSTART:20260222T000000Z
DTEND:20260223T000000Z
SUMMARY:Sydney Charter Show
LOCATION:the internationally renowned…Read Post Superyacht Australia Suit
 e 44014 Daydream StreetWarriewood NSW 2102Australia P: +61 413 375 820 Fac
 ebook Instagram LinkedIn YouTube Refit OptionsSuperyacht MarinasBecome a m
 emberSuperyacht Australia MagazineVessels Entering AustraliaSydney Charter
  Show\, SeriesEventsSydney\, Australia
DESCRIPTION:The peak body representing the Australian superyacht industry\,
  we are an organisation of businesses providing products and services to t
 he global superyacht sector.
URL:https://yachtwyse.com/explore/boat-shows/australia/serieseventssydney/s
 ydney-charter-show-2026
UID:boatshow-sydney-charter-show-2026@yachtwyse.com
END:VEVENT
END:VCALENDAR