BEGIN:VCALENDAR
VERSION:2.0
PRODID:-//YachtWyse//Boat Shows//EN
CALSCALE:GREGORIAN
METHOD:PUBLISH
X-WR-CALNAME:Sydney International Boat Show
BEGIN:VEVENT
DTSTART:20260731T000000Z
DTEND:20260803T000000Z
SUMMARY:Sydney International Boat Show
LOCATION:The ICC\, Sydney & Cockle Bay Marina\, Darling Harbour\, 14 Darlin
 g Drive\, Sydney\, Australia\, Sydney\, Australia
URL:https://yachtwyse.com/explore/boat-shows/australia/sydney/sydney-intern
 ational-boat-show-2026
UID:boatshow-sydney-international-boat-show-2026@yachtwyse.com
END:VEVENT
END:VCALENDAR