BEGIN:VCALENDAR
VERSION:2.0
PRODID:-//YachtWyse//Boat Shows//EN
CALSCALE:GREGORIAN
METHOD:PUBLISH
X-WR-CALNAME:Sydney International On-Water Boat Show
BEGIN:VEVENT
DTSTART:20261112T000000Z
DTEND:20261115T000000Z
SUMMARY:Sydney International On-Water Boat Show
LOCATION:Cockle Bay\, Darling Harbour\, Sydney Boat Show | Sydney Showgroun
 d - Begins July 30\, 2026\, Australia
DESCRIPTION:Explore the newest in trailer boats\, lifestyle gear\, fishing 
 essentials\, marine tech and more! Soak up the energy - For everyone who l
 oves fun on the water.
URL:https://yachtwyse.com/explore/boat-shows/australia/sydney-boat-show-syd
 ney-showground-begins-july-30/sydney-international-on-water-boat-show-2026
UID:boatshow-sydney-international-on-water-boat-show-2026@yachtwyse.com
END:VEVENT
END:VCALENDAR