BEGIN:VCALENDAR
VERSION:2.0
PRODID:-//YachtWyse//Boat Shows//EN
CALSCALE:GREGORIAN
METHOD:PUBLISH
X-WR-CALNAME:The Abu Dhabi International Boat Show (Adibs)
BEGIN:VEVENT
DTSTART:20261119T000000Z
DTEND:20261122T000000Z
SUMMARY:The Abu Dhabi International Boat Show (Adibs)
LOCATION:ADNEC Marina\, CC8P+H3R\, 30th St\, Al Muzoun\, Abu Dhabi\, Al Muz
 oun\, Abu Dhabi
URL:https://yachtwyse.com/explore/boat-shows/abu-dhabi/al-muzoun/the-abu-dh
 abi-international-boat-show-adibs-2026
UID:boatshow-the-abu-dhabi-international-boat-show-adibs-2026@yachtwyse.com
END:VEVENT
END:VCALENDAR