BEGIN:VCALENDAR
VERSION:2.0
PRODID:-//YachtWyse//Boat Shows//EN
CALSCALE:GREGORIAN
METHOD:PUBLISH
X-WR-CALNAME:The Great Upstate Boat Show
BEGIN:VEVENT
DTSTART:20260326T000000Z
DTEND:20260329T000000Z
SUMMARY:The Great Upstate Boat Show
LOCATION:Afrim's Sports Dome\, Queensbury\, NY\, USA
DESCRIPTION:The Great Upstate Boat Show is the largest boat show between Ne
 w York City\, Albany & Montreal. Chat with local boat dealers and see the 
 top boat brands of the year!
URL:https://yachtwyse.com/explore/boat-shows/usa/queensbury/the-great-upsta
 te-boat-show-2026
UID:boatshow-the-great-upstate-boat-show-2026@yachtwyse.com
END:VEVENT
END:VCALENDAR