BEGIN:VCALENDAR
VERSION:2.0
PRODID:-//YachtWyse//Boat Shows//EN
CALSCALE:GREGORIAN
METHOD:PUBLISH
X-WR-CALNAME:The Hutchwilco New Zealand Boat Show
BEGIN:VEVENT
DTSTART:20260514T000000Z
DTEND:20260517T000000Z
SUMMARY:The Hutchwilco New Zealand Boat Show
LOCATION:Auckland Showgrounds\, 217 Green Lane West\, Epsom\, Auckland 1051
 \, New Zealand\, Auckland 1051\, New Zealand
URL:https://yachtwyse.com/explore/boat-shows/new-zealand/auckland-1051/the-
 hutchwilco-new-zealand-boat-show-2026
UID:boatshow-the-hutchwilco-new-zealand-boat-show-2026@yachtwyse.com
END:VEVENT
END:VCALENDAR