BEGIN:VCALENDAR
VERSION:2.0
PRODID:-//YachtWyse//Boat Shows//EN
CALSCALE:GREGORIAN
METHOD:PUBLISH
X-WR-CALNAME:The Lake Tahoe Concours d&#39\;Elegance Show
BEGIN:VEVENT
DTSTART:20260807T000000Z
DTEND:20260808T000000Z
SUMMARY:The Lake Tahoe Concours d&#39\;Elegance Show
LOCATION:August 7th\, 2026\, W Lake BlvdHomewood\, CA\, USA
URL:https://yachtwyse.com/explore/boat-shows/usa/w-lake-blvdhomewood/the-la
 ke-tahoe-concours-d-39-elegance-show-2026
UID:boatshow-the-lake-tahoe-concours-d-39-elegance-show-2026@yachtwyse.com
END:VEVENT
END:VCALENDAR