BEGIN:VCALENDAR
VERSION:2.0
PRODID:-//YachtWyse//Boat Shows//EN
CALSCALE:GREGORIAN
METHOD:PUBLISH
X-WR-CALNAME:The Maine Boat & Home Show
BEGIN:VEVENT
DTSTART:20260807T000000Z
DTEND:20260809T000000Z
SUMMARY:The Maine Boat & Home Show
LOCATION:Rockland\, ME\, USA
URL:https://yachtwyse.com/explore/boat-shows/usa/rockland/the-maine-boat-ho
 me-show-2026
UID:boatshow-the-maine-boat-home-show-2026@yachtwyse.com
END:VEVENT
END:VCALENDAR