BEGIN:VCALENDAR
VERSION:2.0
PRODID:-//YachtWyse//Boat Shows//EN
CALSCALE:GREGORIAN
METHOD:PUBLISH
X-WR-CALNAME:Tobay Beach In-Water Boat Show
BEGIN:VEVENT
DTSTART:20261004T000000Z
DTEND:20261006T000000Z
SUMMARY:Tobay Beach In-Water Boat Show
LOCATION:Tobay Beach\, Oyster Bay\, New York 11758\, United States\, New Yo
 rk 11758\, USA
URL:https://yachtwyse.com/explore/boat-shows/usa/new-york-11758/tobay-beach
 -in-water-boat-show-2026
UID:boatshow-tobay-beach-in-water-boat-show-2026@yachtwyse.com
END:VEVENT
END:VCALENDAR