BEGIN:VCALENDAR
VERSION:2.0
PRODID:-//YachtWyse//Boat Shows//EN
CALSCALE:GREGORIAN
METHOD:PUBLISH
X-WR-CALNAME:Uiva Flytande
BEGIN:VEVENT
DTSTART:20260813T000000Z
DTEND:20260816T000000Z
SUMMARY:Uiva Flytande
LOCATION:HSK Helsingfors\, Segelklubb\, Vattuniemen Puistotie 1\, 00210 Hel
 sinki\, Finland\, 00210 Helsinki\, Finland
URL:https://yachtwyse.com/explore/boat-shows/finland/00210-helsinki/uiva-fl
 ytande-2026
UID:boatshow-uiva-flytande-2026@yachtwyse.com
END:VEVENT
END:VCALENDAR