BEGIN:VCALENDAR
VERSION:2.0
PRODID:-//YachtWyse//Boat Shows//EN
CALSCALE:GREGORIAN
METHOD:PUBLISH
X-WR-CALNAME:West Palm Beach Boat Show
BEGIN:VEVENT
DTSTART:20260620T000000Z
DTEND:20260622T000000Z
SUMMARY:West Palm Beach Boat Show
LOCATION:9067 Southern Boulveard\, West Palm Beach\, Florida 33411\, USA\, 
 Florida 33411\, USA
URL:https://yachtwyse.com/explore/boat-shows/usa/florida-33411/west-palm-be
 ach-boat-show-2026
UID:boatshow-west-palm-beach-boat-show-2026@yachtwyse.com
END:VEVENT
END:VCALENDAR