BEGIN:VCALENDAR
VERSION:2.0
PRODID:-//YachtWyse//Boat Shows//EN
CALSCALE:GREGORIAN
METHOD:PUBLISH
X-WR-CALNAME:Wilmington Boat Show
BEGIN:VEVENT
DTSTART:20261010T000000Z
DTEND:20261012T000000Z
SUMMARY:Wilmington Boat Show
LOCATION:Wilmington Convention Centre\, Cape Fear\, 10 Convention Center Dr
 \, North Carolina\, USA\, North Carolina\, USA
URL:https://yachtwyse.com/explore/boat-shows/usa/north-carolina/wilmington-
 boat-show-2026
UID:boatshow-wilmington-boat-show-2026@yachtwyse.com
END:VEVENT
END:VCALENDAR