BEGIN:VCALENDAR
VERSION:2.0
PRODID:-//YachtWyse//Boat Shows//EN
CALSCALE:GREGORIAN
METHOD:PUBLISH
X-WR-CALNAME:Windy City Boat & Yacht Show
BEGIN:VEVENT
DTSTART:20260612T000000Z
DTEND:20260614T000000Z
SUMMARY:Windy City Boat & Yacht Show
LOCATION:BUY TICKETS\, UPDATESCHICAGO\, USA
DESCRIPTION:Experience Chicago’s Premier In-Water Boat Show – The Windy
  City Boat & Yacht Show\, June 12–14\, 2026 at Burnham Harbor. This high
 ly anticipated event brings the best in boating to the Midwest.
URL:https://yachtwyse.com/explore/boat-shows/usa/updateschicago/windy-city-
 boat-yacht-show-2026
UID:boatshow-windy-city-boat-yacht-show-2026@yachtwyse.com
END:VEVENT
END:VCALENDAR