BEGIN:VCALENDAR
VERSION:2.0
PRODID:-//YachtWyse//Boat Shows//EN
CALSCALE:GREGORIAN
METHOD:PUBLISH
X-WR-CALNAME:Wooden Boat Festival
BEGIN:VEVENT
DTSTART:20260911T000000Z
DTEND:20260913T000000Z
SUMMARY:Wooden Boat Festival
LOCATION:USA
URL:https://yachtwyse.com/explore/boat-shows/usa/searchport-townsend-wooden
 -boat/wooden-boat-festival-2026
UID:boatshow-wooden-boat-festival-2026@yachtwyse.com
END:VEVENT
END:VCALENDAR