BEGIN:VCALENDAR
VERSION:2.0
PRODID:-//YachtWyse//Boat Shows//EN
CALSCALE:GREGORIAN
METHOD:PUBLISH
X-WR-CALNAME:Wooden Boat Show
BEGIN:VEVENT
DTSTART:20260626T000000Z
DTEND:20260628T000000Z
SUMMARY:Wooden Boat Show
LOCATION:https://mysticseaport.org/\, The most dynamic wooden boat show in 
 the country\, America
URL:https://yachtwyse.com/explore/boat-shows/america/the-most-dynamic-woode
 n-boat-show-in-the-country/wooden-boat-show-2026
UID:boatshow-wooden-boat-show-2026@yachtwyse.com
END:VEVENT
END:VCALENDAR